BEGIN:VCALENDAR
VERSION:2.0
PRODID:-//Kieler Sushi Technik - ECPv5.3.1//NONSGML v1.0//EN
CALSCALE:GREGORIAN
METHOD:PUBLISH
X-WR-CALNAME:Kieler Sushi Technik
X-ORIGINAL-URL:https://kieler-sushi.de
X-WR-CALDESC:Veranstaltungen für Kieler Sushi Technik
BEGIN:VTIMEZONE
TZID:Europe/Berlin
BEGIN:DAYLIGHT
TZOFFSETFROM:+0100
TZOFFSETTO:+0200
TZNAME:CEST
DTSTART:20260329T010000
END:DAYLIGHT
BEGIN:STANDARD
TZOFFSETFROM:+0200
TZOFFSETTO:+0100
TZNAME:CET
DTSTART:20261025T010000
END:STANDARD
END:VTIMEZONE
BEGIN:VEVENT
DTSTART;TZID=Europe/Berlin:20260529T100000
DTEND;TZID=Europe/Berlin:20260530T160000
DTSTAMP:20260422T154136
CREATED:20250918T212008Z
LAST-MODIFIED:20260325T202901Z
UID:1669-1780048800-1780156800@kieler-sushi.de
SUMMARY:Ausgebucht! Kieler Sushi ADVANCED Teil 1 / Kiel / 29 - 30 Mai 2026
DESCRIPTION:Der Kurs ist ausgebucht! Bei Interesse trotzdem anmelden für Warteliste.  \nSehr geehrte Kollegin\, sehr geehrter Kollege\, \nSie haben den Grundkurs zum „Kieler Sushi“ bereits erfolgreich absolviert und sind begeistert? Sie möchten nun tiefer in die Materie eintauchen und Ihr Wissen auf das nächste Level bringen? Dann ist unser „Kieler Sushi“ Advanced-Kursgenau das Richtige für Sie! \nDieser hochkarätige Kurs bietet Ihnen die Möglichkeit\, detailliertes Wissen für Ihre Praxis zu erlangen – von chirurgischen Techniken über OP-Planung bis hin zu Abrechnung und perioperativem Praxismanagement. Wir nehmen Sie mit auf eine faszinierende Reise durch die komplette chirurgische Implantologie und vermitteln Ihnen wertvolle Tipps\, die Ihren Praxisalltag nachhaltig optimieren werden. \n  \nWarum sollten Sie diesen Kurs buchen? \n\nTiefe Einblicke in die Praxis der Implantologie: Erfahren Sie Schritt für Schritt\, wie Sie die einzelnen Eingriffe perfekt planen\, durchführen und abrechnen.\nFokus auf die Chirurgie: Sie lernen nicht nur die wichtigsten chirurgischen Techniken\, sondern auch\, wie Sie Ihre Schnittführung und den Wundverschluss optimieren\, um beste Ergebnisse zu erzielen.\nExklusive Updates: Unsere Augmentationstechniken entwickeln sich ständig weiter. Verpassen Sie nicht\, was es Neues gibt\, und bleiben Sie auf dem neuesten Stand.\n\nNeu! Aufgrund der hohen Nachfrage und des Feedbacks unserer Teilnehmer haben wir den Kurs auf zwei Wochenenden aufgeteilt. Der erste Kurs konzentriert sich voll und ganz auf die Chirurgie – praxisnah und tiefgehend. \nWas erwartet Sie im Advanced Kurs – Teil 1? \n\nUpdate: Augmentationstechnik\nUnsere Techniken entwickeln sich ständig weiter – holen Sie sich die neuesten Erkenntnisse und bleiben Sie führend in der Augmentationschirurgie.\nRidge Preservation\nEine stabile Basis ist der Schlüssel: Lernen Sie\, wie der Erhalt von Hart- und Weichgewebe zur erfolgreichen Augmentation führt. Ein Muss für jede Implantation.\nHorizontale und Vertikale Augmentationen\nKlassische Verfahren\, die jeder beherrschen sollte. Wann kann man einzeitig vorgehen\, und wann empfiehlt sich ein mehrstufiger Ansatz?\nInterner Sinuslift\nMit dem „Kieler Sushi“-Konzept wird der interne Sinuslift nicht nur planbar und effizient\, sondern auch zu einer alltäglichen Routine.\nNeed no Hero!\nIst die vermeintlich komplexe Augmentation wirklich so anspruchsvoll? Was tun\, wenn der Eingriff nicht wie geplant verläuft? Wir zeigen Ihnen ein bewährtes Standardverfahren und die pragmatischen Lösungen für die gängigsten Probleme\, die gerne mal auftreten. So sind Sie bestens vorbereitet\, auch schwierige Situationen souverän zu meistern. 🙂\nDas kann jeder!\nErfahrungsberichte von Kollegen aus der eigenen Praxis – lernen Sie von ihren Erfolgen und Herausforderungen.\nLive-Demo: „Kieler Sushi“ V3.0\nErleben Sie unsere neueste Version des „Kieler Sushi“-Konzepts live und praxisnah!\n\nUnd natürlich kommt der Spaß nicht zu kurz!\nNach einem intensiven Tag laden wir Sie zu einem gemeinsamen Abendessen und geselligen Austausch an der Bar ein – Netzwerken in entspannter Atmosphäre. \n\nKlingt spannend? Warten Sie nicht zu lange! Unsere Advanced-Kurse sind stets stark nachgefragt und in der Regel schnell ausgebucht. Sichern Sie sich Ihren Platz noch heute! \nMit besten Grüßen\,\nDr. Oliver Zernial und das „Kieler Sushi“-Team \n \n  \nWichtig!\nAls Kurs für Fortgeschrittene setzt dieser Kurs umfassendes Wissen rund um das „Kieler Sushi“ voraus. Entsprechend ist die Teilnahme nur für Kolleginnen und Kollegen möglich\, die bereits den „Kieler Sushi“ Hands-On Kurs erfolgreich absolviert haben. \nFortbildungspunkte und Zertifizierung:\nDie Teilnehmer dieses Kurses erhalten 14 Fortbildungspunkte. Diese Veranstaltung entspricht den Standards des European Credit Transfer System (ECTS) sowie den Empfehlungen und Leitsätzen von BZÄK/KZBV/DGZMK. \nKursgebühr:\nDie Teilnahmegebühr beträgt 1.349 € zzgl. MwSt. \nDer Kurs wird von unserer I love implants GmbH organisiert und durchgeführt. Bitte nutzen Sie das beigefügte Anmeldeformular oder senden Sie Ihre Anmeldung per E-Mail an: s.zernial@iloveimplants.de. \n  \nmit freundlicher Unterstützung von: \n \n  \n  \n \n  \n  \n \n  \n  \n \n  \n  \n  \nBitte aktiviere JavaScript in deinem Browser\, um dieses Formular fertigzustellen.Titel / AnspracheoptionalName *VornameNachnameStrasse und Hausnummer *PLZStadt / Ort *E-Mail *Telefon *optionalHaben Sie bereits den "Kieler Sushi" Hands-On Kurs besucht?janeinWenn Sie schon einen Advanced Kurs im Jahr 2024 oder früher teilgenommen haben\, dann empfehlen wir den Teil 2.Wenn ja ca. wann?Anzahl der Teilnehmer123456789Begleitpersonenich komme alleineeine Begleitperson Teilnahme am Abendessen Freitags (kostenpflichtig)eine Begleitperson Teilnahme am Mittagessen Samstags (kostenpflichtig)Bitte beachten Sie folgende wichtige Information! *Planen Sie am Freitagabend etwas Zeit für Diskussionen oder Überziehungen ein. Am Samstag finden am Nachmittag die Hands-On Übungen statt. Reisen Sie also nicht zu früh ab.Kommentar oder Nachrichtoptional\, wenn sie dieses Formular abschicken wird bei uns automatisch eine Anfrage generiertAGB´s *Ich habe die allg. Geschäftsbedingungen gelesen und akzeptiert Allgemeine Geschäftsbedingungen Individuelles Captcha *			\n				\n											\n						\n						\n											=\n				\n								\n				\n				\n			\n			Absenden
URL:https://kieler-sushi.de/event/kieler-sushi-advanced-teil-1-kiel-29-30-mai-2026
LOCATION:Romantik Hotel Kieler Kaufmann\, Niemannsweg 102\, Kiel\, Schleswig Holstein\, 24105\, Deutschland
CATEGORIES:Fortbildung,Hands-On-Kurse
ATTACH;FMTTYPE=image/jpeg:https://kieler-sushi.de/wp-content/uploads/2020/12/Kiel-2.jpg
ORGANIZER;CN="Dr.%20Oliver%20Zernial":MAILTO:praxis@myimplant.de
END:VEVENT
BEGIN:VEVENT
DTSTART;TZID=Europe/Berlin:20260911T100000
DTEND;TZID=Europe/Berlin:20260912T160000
DTSTAMP:20260422T154136
CREATED:20251029T105238Z
LAST-MODIFIED:20251029T105333Z
UID:1702-1789120800-1789228800@kieler-sushi.de
SUMMARY:29. Kieler Sushi Hands-On Kurs / Version 3.0 / Kiel / 11-12 September 2026
DESCRIPTION: \n\n\n\n\n\n\n\n\n\n\n\n\n\n\n\n\n\n\n\n\n\n\n\n\n\nSehr geehrte Kollegin\, sehr geehrter Kollege\,\n \n\n\n\n\n\n\n\n\n\n\nSie interessieren sich für die chirurgische Anwendung von Blutplasma in Ihrer Praxis und möchten unser „Kieler Sushi“-Konzept kennenlernen? Dann sind Sie hier genau richtig. Seit dem 19.12.2023 gilt die neue „Richtlinie zur Gewinnung von Blut und zur Herstellung sowie Anwendung von Blutprodukten in der Zahnheilkunde“ der BZÄK. Diese fordert eine sechs-stündige Fortbildung bezüglich der Anwendung von PRP\, PRF oder PRGF (oder mehr als ein Jahr Praxiserfahrung vor Inkraftreten der Richtlinie)! In unserem Kurs lernen Sie nicht nur das „Kieler Sushi“-Konzept kennen\, sondern erfüllen auch die geforderten Voraussetzungen\, um dies in Ihrer eigenen Praxis umzusetzen. \n  \nEgal\, ob Sie auf Implantologie spezialisiert sind\, Oral- oder MKG-Chirurg: Die Rekonstruktion von Hart- und Weichgewebe ist für uns alle von zentraler Bedeutung. Ein stabiles knöchernes Implantatbett ist die Grundlage für erfolgreichen implantatgetragenen Zahnersatz. \n  \nAuch ich habe mich viele Jahre der Herausforderung gestellt\, aufwendige Knochenaufbauten mechanisch zu stabilisieren und die damit verbundenen Probleme zu bewältigen. 2014 begann ich damit\, meine Augmentationen mithilfe von Plasma zu stabilisieren. Daraus entstand ein Konzept\, das Thrombozyten\, Fibrin und Knochenersatzmaterial kombiniert und neue chirurgische Perspektiven eröffnet. Dieses Konzept ermöglicht ein äußerst effizientes Arbeiten und begeistert unsere Patienten. \n\n\n\n\n\n\n  \n\n\n\n\n\n\n\n\n\n\n\nPRP meets PRF: Das neue Sushi V3.0\n  \nDas „Kieler Sushi“-Konzept wurde kontinuierlich weiterentwickelt. Die aktuelle Version 3 fokussiert sich nicht nur auf die effiziente Möglichkeit\, biologische Knochen-Composites mit PRP aufzubauen\, sondern nutzt auch PRF\, um durch kontrollierte Entzündungen die Zellmigration zu stimulieren und das knöcherne Ergebnis zu verbessern. \n  \n \n  \n  \nHype oder Chance? Erfahren Sie\, wie sich das „Kieler Sushi“ aus der Praxis entwickelt hat\, wo die Unterschiede zu anderen Plasmaverfahren liegen und welchen Mehrwert es für Sie\, Ihre Praxis und Ihre Patienten darstellt. \nBasics: Lernen Sie die Grundlagen zum Thema Blutplasma und die gängigen Herstellungsverfahren wie PRP\, PRGF und PRF im Detail kennen. Welche Zentrifuge passt zu mir? Warum antikoaguliertes Plasma? Warum PRF? Verstehen Sie die Bedeutung der Blutgerinnung im „Kieler Sushi“-Konzept und warum PRF jetzt Teil des Konzepts ist. \nIndikationen: Anhand von Praxisfällen zeigen wir Ihnen\, wann\, wo und wie Sie das „Kieler Sushi“ erfolgreich einsetzen können. Wir geben Ihnen nicht nur Tipps zur chirurgischen Umsetzung\, sondern auch zur Abrechnung und Kommunikation mit dem Patienten. \nDas Rezept: Erfahren Sie\, welche Plasmasysteme und Ersatzmaterialien sich für welche Indikationen bewährt haben. Wir zeigen Ihnen Schritt für Schritt\, wie Sie plasmastabilisierte Augmentate in Ihrer Praxis vorhersagbar und erfolgreich herstellen können. \nHands-On: „See one\, do one\, teach one“ – Verfestigen Sie das theoretische Wissen\, indem Sie Ihr eigenes „Kieler Sushi“ herstellen und das Augmentat am Schweinekiefer verkleben. Mehr als 500 Teilnehmer haben in unseren Kursen bereits erfolgreich ein „Kieler Sushi“ hergestellt. In vielen Praxen ist es bereits tägliche Routine und begeistert Behandler und Patienten. \nZertifizierung: Wir wollen sicher stellen\, dass Sie wirklich bereit für die Anwendung von Blutplasma in Ihrer eigenen Praxis sind. Mit dieser Fortbildungsveranstaltung werden sie nicht nur der Richtliene der BZÄK gerecht\, sondern durch eine schriftliche Prüfung stellen wir sicher\, dass Sie das Thema Blutplasma und dessen Anwendung auch ausreichend verinnerlicht haben. Der Kurs entspricht den Standards des European Credit Transfer System (ECTS) sowie den Empfehlungen und Leitsätzen der BZÄK/KZBV/DGZMK. Lehrinhalt und abschließende Prüfung sind von der DTMD Luxemburg zertifiziert und anerkannt und werden auf den Masterstudiengang „Master of Science Parodontologie und Implantologie (MSc)„ angerechnet.  \n  \nJeder Teilnehmer erhält 16 Fortbildungspunkte!   \n  \nDieser 2tägige Hands-On-Kurs wird Ihr chirurgisches Denken und Handeln grundlegend verändern! Lassen auch Sie sich wie viele Kollegen bereits vor Ihnen überzeugen. Nutzen Sie das Potential des „Kieler-Sushi“-Konzepts für Ihre Praxis und Ihre Patienten! Wir freuen uns darauf\, Sie auf einem unserer nächsten Hands-On-Kurse begeistern und begrüßen zu dürfen. Dr. Oliver Zernial und das „Kieler Sushi“  Team \n  \nDer Kurs wird durch unsere I love implants GmbH  organisiert und durchgeführt. Bitte nutzen Sie einfach das folgende Anmeldeformular oder schicken Sie uns bei Fragen eine Mail an: s.zernial@iloveimplants.de. \n  \nDer Kurs beginnt am Freitag um 10.00 und endet am Samstag um 16.00! \n  \nKursgebühr: 1349€ zzgl. Mwst.\n  \nmit freundlicher Unterstützung von: \n  \n \n  \n  \n \n \nBitte aktiviere JavaScript in deinem Browser\, um dieses Formular fertigzustellen.Titel / AnspracheoptionalName *VornameNachnameStrasse und Hausnummer *PLZ und Ort *E-Mail *Telefon *optionalAnzahl der Teilnehmer123456789Begleitpersonenich komme alleineeine Begleitperson Teilnahme am Abendessen Freitags (kostenpflichtig)eine Begleitperson Teilnahme am Mittagessen Samstag (kostenpflichtig)Bitte bestätigen Sie folgende wichtige Information! *Planen Sie am Freitagabend etwas Zeit für Diskussionen oder Überziehungen ein. Am Samstag finden die Hands-On Übungen statt. Reisen Sie also nicht zu früh ab. Der Kurs beginnt am Freitag um 10.00 und endet am Samstag um 16.00. Wir empfehlen rechtzeitig  ein Zimmer im Romantik Hotel Kieler Kaufmann zu reservieren (limitiertes Zimmerkontingent zum Sondertarif verfügbar). Für Teilnehmer\, die über den Hamburger Flughafen anreisen\, empfehlen wir ein Taxitransfer mit Mare Taxi (https://www.maretaxikiel.de/flughafentransfer bzw. 0431 77070).Kommentar oder Nachrichtoptional\, wenn sie dieses Formular abschicken wird bei uns automatisch eine Anfrage generiertAGB´s *Ich habe die allg. Geschäftsbedingungen gelesen und akzeptiert Allgemeine Geschäftsbedingungen Absenden  \n 
URL:https://kieler-sushi.de/event/29-kieler-sushi-hands-on-kurs-version-3-0-kiel-11-12-september-2026-2
LOCATION:Romantik Hotel Kieler Kaufmann\, Niemannsweg 102\, Kiel\, Schleswig Holstein\, 24105\, Deutschland
CATEGORIES:Fortbildung,Hands-On-Kurse
ATTACH;FMTTYPE=image/jpeg:https://kieler-sushi.de/wp-content/uploads/2021/10/Fehmarn-aktion.jpg
ORGANIZER;CN="Dr.%20Oliver%20Zernial":MAILTO:praxis@myimplant.de
END:VEVENT
BEGIN:VEVENT
DTSTART;TZID=Europe/Berlin:20261106T100000
DTEND;TZID=Europe/Berlin:20261107T160000
DTSTAMP:20260422T154136
CREATED:20251029T102912Z
LAST-MODIFIED:20251029T110537Z
UID:1686-1793959200-1794067200@kieler-sushi.de
SUMMARY:Kieler Sushi ADVANCED Kurs TEIL 2 / Kiel / 06 – 07 November 2026
DESCRIPTION:Sehr geehrte Kollegin\, sehr geehrter Kollege\, \nSie haben den ersten Teil des Kieler Sushi Advanced Kurses erfolgreich absolviert und möchten nun die nächste Stufe erklimmen? Im zweiten Teil geht es nicht nur um chirurgische Techniken\, sondern vor allem um das Management rund um die Praxis. Denn langfristig erfolgreich wird nur der\, der nicht nur gut operiert\, sondern auch die betriebswirtschaftliche Praxisführung\, die Mitarbeiterführung und die Selbstführung beherrscht. Dieser Kurs legt besonderen Fokus darauf\, wie Sie in Ihrer Praxis effizient arbeiten\, sich selbst führen und dabei Ihre persönlichen und beruflichen Ziele erreichen. \nEin weiteres wichtiges Thema ist das Komplikationsmanagement\, um auch in schwierigen Situationen optimal zu reagieren. Auch die Gestaltung von Provisorien ist ein oft wenig beachtetes Thema\, dem wir in diesem Kurs Raum geben\, um Ihnen zu zeigen\, wie Sie auch hier hervorragende Ergebnisse erzielen. \nDer Kurs bietet zudem auch für Teilnehmer des Advanced Kurses 2024 oder früher viele neue\, praxisrelevante Informationen\, sodass es sich auch für erfahrene Kolleginnen und Kollegen lohnt\, teilzunehmen. \nDie Kombination aus chirurgischem Know-how und umfassendem Praxismanagement\, wie sie in diesem Kurs vermittelt wird\, ist selten zu finden – nutzen Sie die Gelegenheit und sichern Sie sich einen der begehrten Plätze! \n\n\n\n\n\n\nProgrammpunkte des Advanced Kurses – Teil 2: \nPerioperatives Management: Die perioperative Betreuung Ihrer Patienten ist entscheidend für den langfristigen Behandlungserfolg. Erfahren Sie\, wie Sie Ihre Patienten optimal durch den gesamten Prozess begleiten. \nSofortimplantation in der ästhetischen Zone: In der ästhetischen Zone zählt nicht nur ein perfektes Ergebnis\, sondern auch Effizienz. Erfahren Sie\, wie Sie mit präziser Planung und bewährten Techniken schnell und zuverlässig zu exzellenten ästhetischen Ergebnissen gelangen – ohne unnötige Komplexität. \nWeichgewebsmanagement u.a. mit Radiofrequenz: Ein modernes Weichgewebsmanagement ist essenziell für den langfristigen Erfolg Ihrer Implantationen. Lernen Sie\, wie Radiofrequenz und andere Methoden Ihr Behandlungsergebnis verbessern. \nProvisorien in der Implantologie: Funktion und Ästhetik müssen Hand in Hand gehen – wir zeigen Ihnen\, wie Sie Ihre Provisorien so gestalten\, dass Ihre Patienten von Anfang an begeistert sind. \nKomplikationen: Als Profi weiß man\, was zu tun ist!\nPeriimplantitis und andere Komplikationen sind Teil des Praxisalltags. In diesem Abschnitt erfahren Sie\, wie Sie mit den häufigsten Herausforderungen souverän umgehen. \nOhne Assistent geht es nicht: Mitarbeiterführung ist heutzutage keine Option mehr!\nDie richtige Führung Ihres Teams ist genauso wichtig wie Ihre chirurgischen Fähigkeiten. Erfahren Sie\, wie Sie Ihre Mitarbeiter motivieren\, unterstützen und in den Praxisablauf integrieren. \nWas braucht Leadership: Eine starke Unternehmenskultur und klare strategische Ziele sind entscheidend für den langfristigen Erfolg Ihrer Praxis. Bernd Wagner zeigt Ihnen\, wie Sie Ihre Praxisführung optimieren und dabei authentisch bleiben. \nWas will ich: Eigene Werteanalyse als Workshop. Was sind Ihre persönlichen und beruflichen Ziele? Dieser Workshop unterstützt Sie dabei\, Ihre Werte zu erkennen und konkrete Schritte zu formulieren\, um diese zu erreichen – egal\, ob Sie am Anfang Ihrer Karriere stehen oder bereits ein erfahrener Experte sind. \nReady or Done? Geld\, Zeit\, Marketing und Erfolg! Abschließend widmen wir uns den wichtigsten Erfolgsfaktoren: Wie gestalten Sie Ihre Praxis finanziell und organisatorisch so\, dass Sie langfristig erfolgreich und zufrieden sind? \n \nBuchen Sie jetzt!\nDie Advanced-Kurse sind stark nachgefragt und schnell ausgebucht. Sichern Sie sich Ihren Platz und profitieren Sie von umfassendem Wissen\, praxisnahen Techniken und wertvollen Managementfähigkeiten. \n  \nDie Teilnahme am Advanced II Kurs ist nur möglich nach absolviertem Hands-On Kurs und Advanced I Kurs. Beide Kurse sind Voraussetzung\, um die Inhalte des Advanced II Kurses vollständig nachvollziehen und anwenden zu können. \n  \nKursgebühr:\nDie Teilnahmegebühr für Teil 2 beträgt 1.349 € zzgl. MwSt. Teilnehmer des Kurses erhalten 14 Fortbildungspunkte\, gemäß den Standards des European Credit Transfer System (ECTS) sowie den Empfehlungen und Leitsätzen von BZÄK/KZBV/DGZMK. \nOrganisiert von der I love implants GmbH. Melden Sie sich noch heute an – per Anmeldeformular oder per E-Mail an s.zernial@iloveimplants.de. \n  \nmit freundlicher Unterstützung von: \n \n  \n  \n \n  \n  \n \n  \n  \n \n  \n  \n  \nBitte aktiviere JavaScript in deinem Browser\, um dieses Formular fertigzustellen.Titel / AnspracheoptionalName *VornameNachnameStrasse und Hausnummer *PLZ und Ort *E-Mail *Telefon *optionalHaben Sie bereits den "Kieler Sushi" Hands-On Kurs besucht?janeinWenn ja ca. wann?Haben Sie bereits einen Advanced Kurs besucht?Ja\, Teil 1Ja\, 2024 oder die Jahre davorneinWenn Sie schon einen Advanced Kurs im Jahr 2024 oder früher teilgenommen haben\, müssen Sie nicht unbedingt Teil 1 absolviert haben. Anzahl der Teilnehmer123456789Begleitpersonenich komme alleineeine Begleitperson Teilnahme am Abendessen Freitags (kostenpflichtig)eine Begleitperson Teilnahme am Mittagessen Samstags (kostenpflichtig)Bitte beachten sie folgende wichtige Information! *Planen Sie am Freitagabend etwas Zeit für Diskussionen oder Überziehungen ein. Am Samstag finden die Hands-On Übungen statt. Reisen Sie also nicht zu früh ab. Der Kurs beginnt am Freitag um 10.00 und endet am Samstag um 16.00. Wir empfehlen rechtzeitig  ein Zimmer im Romantik Hotel Kieler Kaufmann zu reservieren (limitiertes Zimmerkontingent zum Sondertarif verfügbar). Für Teilnehmer\, die über den Hamburger Flughafen anreisen\, empfehlen wir ein Taxitransfer mit Mare Taxi (https://www.maretaxikiel.de/flughafentransfer bzw. 0431 77070).Kommentar oder Nachrichtoptional\, wenn sie dieses Formular abschicken wird bei uns automatisch eine Anfrage generiertAGB´s *Ich habe die allg. Geschäftsbedingungen gelesen und akzeptiert Allgemeine Geschäftsbedingungen Absenden
URL:https://kieler-sushi.de/event/kieler-sushi-advanced-kurs-teil-2-kiel-06-07-november-2026
LOCATION:Romantik Hotel Kieler Kaufmann\, Niemannsweg 102\, Kiel\, Schleswig Holstein\, 24105\, Deutschland
CATEGORIES:Fortbildung,Hands-On-Kurse
ATTACH;FMTTYPE=image/jpeg:https://kieler-sushi.de/wp-content/uploads/2020/12/Timmendorf-.jpg
ORGANIZER;CN="Dr.%20Oliver%20Zernial":MAILTO:praxis@myimplant.de
END:VEVENT
BEGIN:VEVENT
DTSTART;TZID=Europe/Berlin:20261204T100000
DTEND;TZID=Europe/Berlin:20261205T160000
DTSTAMP:20260422T154136
CREATED:20251029T101333Z
LAST-MODIFIED:20251029T103847Z
UID:1679-1796378400-1796486400@kieler-sushi.de
SUMMARY:30. Kieler Sushi Hands-On Kurs / Version 3.0 / Kiel / 04-05 Dezember 2026
DESCRIPTION: \n\n\n\n\n\n\n\n\n\n\n\n\n\n\n\n\n\n\n\n\n\n\n\n\n\nSehr geehrte Kollegin\, sehr geehrter Kollege\,\n \n\n\n\n\n\n\n\n\n\n\nSie interessieren sich für die chirurgische Anwendung von Blutplasma in Ihrer Praxis und möchten unser „Kieler Sushi“-Konzept kennenlernen? Dann sind Sie hier genau richtig. Seit dem 19.12.2023 gilt die neue „Richtlinie zur Gewinnung von Blut und zur Herstellung sowie Anwendung von Blutprodukten in der Zahnheilkunde“ der BZÄK. Diese fordert eine sechs-stündige Fortbildung bezüglich der Anwendung von PRP\, PRF oder PRGF (oder mehr als ein Jahr Praxiserfahrung vor Inkraftreten der Richtlinie)! In unserem Kurs lernen Sie nicht nur das „Kieler Sushi“-Konzept kennen\, sondern erfüllen auch die geforderten Voraussetzungen\, um dies in Ihrer eigenen Praxis umzusetzen. \n  \nEgal\, ob Sie auf Implantologie spezialisiert sind\, Oral- oder MKG-Chirurg: Die Rekonstruktion von Hart- und Weichgewebe ist für uns alle von zentraler Bedeutung. Ein stabiles knöchernes Implantatbett ist die Grundlage für erfolgreichen implantatgetragenen Zahnersatz. \n  \nAuch ich habe mich viele Jahre der Herausforderung gestellt\, aufwendige Knochenaufbauten mechanisch zu stabilisieren und die damit verbundenen Probleme zu bewältigen. 2014 begann ich damit\, meine Augmentationen mithilfe von Plasma zu stabilisieren. Daraus entstand ein Konzept\, das Thrombozyten\, Fibrin und Knochenersatzmaterial kombiniert und neue chirurgische Perspektiven eröffnet. Dieses Konzept ermöglicht ein äußerst effizientes Arbeiten und begeistert unsere Patienten. \n\n\n\n\n\n\n  \n\n\n\n\n\n\n\n\n\n\n\nPRP meets PRF: Das neue Sushi V3.0\n  \nDas „Kieler Sushi“-Konzept wurde kontinuierlich weiterentwickelt. Die aktuelle Version 3 fokussiert sich nicht nur auf die effiziente Möglichkeit\, biologische Knochen-Composites mit PRP aufzubauen\, sondern nutzt auch PRF\, um durch kontrollierte Entzündungen die Zellmigration zu stimulieren und das knöcherne Ergebnis zu verbessern. \n  \n \n  \n  \nHype oder Chance? Erfahren Sie\, wie sich das „Kieler Sushi“ aus der Praxis entwickelt hat\, wo die Unterschiede zu anderen Plasmaverfahren liegen und welchen Mehrwert es für Sie\, Ihre Praxis und Ihre Patienten darstellt. \nBasics: Lernen Sie die Grundlagen zum Thema Blutplasma und die gängigen Herstellungsverfahren wie PRP\, PRGF und PRF im Detail kennen. Welche Zentrifuge passt zu mir? Warum antikoaguliertes Plasma? Warum PRF? Verstehen Sie die Bedeutung der Blutgerinnung im „Kieler Sushi“-Konzept und warum PRF jetzt Teil des Konzepts ist. \nIndikationen: Anhand von Praxisfällen zeigen wir Ihnen\, wann\, wo und wie Sie das „Kieler Sushi“ erfolgreich einsetzen können. Wir geben Ihnen nicht nur Tipps zur chirurgischen Umsetzung\, sondern auch zur Abrechnung und Kommunikation mit dem Patienten. \nDas Rezept: Erfahren Sie\, welche Plasmasysteme und Ersatzmaterialien sich für welche Indikationen bewährt haben. Wir zeigen Ihnen Schritt für Schritt\, wie Sie plasmastabilisierte Augmentate in Ihrer Praxis vorhersagbar und erfolgreich herstellen können. \nHands-On: „See one\, do one\, teach one“ – Verfestigen Sie das theoretische Wissen\, indem Sie Ihr eigenes „Kieler Sushi“ herstellen und das Augmentat am Schweinekiefer verkleben. Mehr als 500 Teilnehmer haben in unseren Kursen bereits erfolgreich ein „Kieler Sushi“ hergestellt. In vielen Praxen ist es bereits tägliche Routine und begeistert Behandler und Patienten. \nZertifizierung: Wir wollen sicher stellen\, dass Sie wirklich bereit für die Anwendung von Blutplasma in Ihrer eigenen Praxis sind. Mit dieser Fortbildungsveranstaltung werden sie nicht nur der Richtliene der BZÄK gerecht\, sondern durch eine schriftliche Prüfung stellen wir sicher\, dass Sie das Thema Blutplasma und dessen Anwendung auch ausreichend verinnerlicht haben. Der Kurs entspricht den Standards des European Credit Transfer System (ECTS) sowie den Empfehlungen und Leitsätzen der BZÄK/KZBV/DGZMK. Lehrinhalt und abschließende Prüfung sind von der DTMD Luxemburg zertifiziert und anerkannt und werden auf den Masterstudiengang „Master of Science Parodontologie und Implantologie (MSc)„ angerechnet.  \n  \nJeder Teilnehmer erhält 16 Fortbildungspunkte!   \n  \nDieser 2tägige Hands-On-Kurs wird Ihr chirurgisches Denken und Handeln grundlegend verändern! Lassen auch Sie sich wie viele Kollegen bereits vor Ihnen überzeugen. Nutzen Sie das Potential des „Kieler-Sushi“-Konzepts für Ihre Praxis und Ihre Patienten! Wir freuen uns darauf\, Sie auf einem unserer nächsten Hands-On-Kurse begeistern und begrüßen zu dürfen. Dr. Oliver Zernial und das „Kieler Sushi“  Team \n  \nDer Kurs wird durch unsere I love implants GmbH  organisiert und durchgeführt. Bitte nutzen Sie einfach das folgende Anmeldeformular oder schicken Sie uns bei Fragen eine Mail an: s.zernial@iloveimplants.de. \n  \nDer Kurs beginnt am Freitag um 10.00 und endet am Samstag um 16.00! \n  \nKursgebühr: 1349€ zzgl. Mwst.\n  \nmit freundlicher Unterstützung von: \n  \n \n  \n  \n \n \nBitte aktiviere JavaScript in deinem Browser\, um dieses Formular fertigzustellen.Titel / AnspracheoptionalName *VornameNachnameStrasse und Hausnummer *PLZ und Ort *E-Mail *Telefon *optionalAnzahl der Teilnehmer123456789Begleitpersonenich komme alleineeine Begleitperson Teilnahme am Abendessen Freitags (kostenpflichtig)eine Begleitperson Teilnahme am Mittagessen Samstag (kostenpflichtig)Bitte bestätigen Sie folgende wichtige Information! *Planen Sie am Freitagabend etwas Zeit für Diskussionen oder Überziehungen ein. Am Samstag finden die Hands-On Übungen statt. Reisen Sie also nicht zu früh ab. Der Kurs beginnt am Freitag um 10.00 und endet am Samstag um 16.00. Wir empfehlen rechtzeitig  ein Zimmer im Romantik Hotel Kieler Kaufmann zu reservieren (limitiertes Zimmerkontingent zum Sondertarif verfügbar). Für Teilnehmer\, die über den Hamburger Flughafen anreisen\, empfehlen wir ein Taxitransfer mit Mare Taxi (https://www.maretaxikiel.de/flughafentransfer bzw. 0431 77070).Kommentar oder Nachrichtoptional\, wenn sie dieses Formular abschicken wird bei uns automatisch eine Anfrage generiertAGB´s *Ich habe die allg. Geschäftsbedingungen gelesen und akzeptiert Allgemeine Geschäftsbedingungen Absenden  \n 
URL:https://kieler-sushi.de/event/29-kieler-sushi-hands-on-kurs-version-3-0-kiel-11-12-september-2026
LOCATION:Romantik Hotel Kieler Kaufmann\, Niemannsweg 102\, Kiel\, Schleswig Holstein\, 24105\, Deutschland
CATEGORIES:Fortbildung,Hands-On-Kurse
ATTACH;FMTTYPE=image/jpeg:https://kieler-sushi.de/wp-content/uploads/2020/12/Kiel-1.jpg
ORGANIZER;CN="Dr.%20Oliver%20Zernial":MAILTO:praxis@myimplant.de
END:VEVENT
END:VCALENDAR